BEGIN:VCALENDAR
VERSION:2.0
PRODID:-//Studierendenvertretung PH Karlsruhe - ECPv6.15.20//NONSGML v1.0//EN
CALSCALE:GREGORIAN
METHOD:PUBLISH
X-ORIGINAL-URL:https://phka-stuve.de
X-WR-CALDESC:Veranstaltungen für Studierendenvertretung PH Karlsruhe
REFRESH-INTERVAL;VALUE=DURATION:PT1H
X-Robots-Tag:noindex
X-PUBLISHED-TTL:PT1H
BEGIN:VTIMEZONE
TZID:Europe/Helsinki
BEGIN:DAYLIGHT
TZOFFSETFROM:+0200
TZOFFSETTO:+0300
TZNAME:EEST
DTSTART:20220327T010000
END:DAYLIGHT
BEGIN:STANDARD
TZOFFSETFROM:+0300
TZOFFSETTO:+0200
TZNAME:EET
DTSTART:20221030T010000
END:STANDARD
BEGIN:DAYLIGHT
TZOFFSETFROM:+0200
TZOFFSETTO:+0300
TZNAME:EEST
DTSTART:20230326T010000
END:DAYLIGHT
BEGIN:STANDARD
TZOFFSETFROM:+0300
TZOFFSETTO:+0200
TZNAME:EET
DTSTART:20231029T010000
END:STANDARD
BEGIN:DAYLIGHT
TZOFFSETFROM:+0200
TZOFFSETTO:+0300
TZNAME:EEST
DTSTART:20240331T010000
END:DAYLIGHT
BEGIN:STANDARD
TZOFFSETFROM:+0300
TZOFFSETTO:+0200
TZNAME:EET
DTSTART:20241027T010000
END:STANDARD
END:VTIMEZONE
BEGIN:VEVENT
DTSTART;VALUE=DATE:20230719
DTEND;VALUE=DATE:20230720
DTSTAMP:20260425T174723
CREATED:20230223T131100Z
LAST-MODIFIED:20230223T131100Z
UID:4301-1689724800-1689811199@phka-stuve.de
SUMMARY:Hochschulwahlen
DESCRIPTION:Gewählt werden folgende Gremien: \nMitglieder des StuPa’s der VS PH KA (25 Plätze) \nMitglieder des Senats und studentische Mitglieder des Senats (drei) \nMitglieder in Fakultät A und studentische Mitglieder des Senats (drei) \nMitglieder in Fakultät B und studentische Mitglieder des Senats (drei)
URL:https://phka-stuve.de/veranstaltungen/hochschulwahlen
END:VEVENT
END:VCALENDAR