BEGIN:VCALENDAR
VERSION:2.0
PRODID:-//Studierendenvertretung PH Karlsruhe - ECPv6.15.20//NONSGML v1.0//EN
CALSCALE:GREGORIAN
METHOD:PUBLISH
X-ORIGINAL-URL:https://phka-stuve.de
X-WR-CALDESC:Veranstaltungen für Studierendenvertretung PH Karlsruhe
REFRESH-INTERVAL;VALUE=DURATION:PT1H
X-Robots-Tag:noindex
X-PUBLISHED-TTL:PT1H
BEGIN:VTIMEZONE
TZID:Europe/Helsinki
BEGIN:DAYLIGHT
TZOFFSETFROM:+0200
TZOFFSETTO:+0300
TZNAME:EEST
DTSTART:20230326T010000
END:DAYLIGHT
BEGIN:STANDARD
TZOFFSETFROM:+0300
TZOFFSETTO:+0200
TZNAME:EET
DTSTART:20231029T010000
END:STANDARD
BEGIN:DAYLIGHT
TZOFFSETFROM:+0200
TZOFFSETTO:+0300
TZNAME:EEST
DTSTART:20240331T010000
END:DAYLIGHT
BEGIN:STANDARD
TZOFFSETFROM:+0300
TZOFFSETTO:+0200
TZNAME:EET
DTSTART:20241027T010000
END:STANDARD
BEGIN:DAYLIGHT
TZOFFSETFROM:+0200
TZOFFSETTO:+0300
TZNAME:EEST
DTSTART:20250330T010000
END:DAYLIGHT
BEGIN:STANDARD
TZOFFSETFROM:+0300
TZOFFSETTO:+0200
TZNAME:EET
DTSTART:20251026T010000
END:STANDARD
BEGIN:DAYLIGHT
TZOFFSETFROM:+0200
TZOFFSETTO:+0300
TZNAME:EEST
DTSTART:20260329T010000
END:DAYLIGHT
BEGIN:STANDARD
TZOFFSETFROM:+0300
TZOFFSETTO:+0200
TZNAME:EET
DTSTART:20261025T010000
END:STANDARD
BEGIN:DAYLIGHT
TZOFFSETFROM:+0200
TZOFFSETTO:+0300
TZNAME:EEST
DTSTART:20270328T010000
END:DAYLIGHT
BEGIN:STANDARD
TZOFFSETFROM:+0300
TZOFFSETTO:+0200
TZNAME:EET
DTSTART:20271031T010000
END:STANDARD
END:VTIMEZONE
BEGIN:VEVENT
DTSTART;TZID=Europe/Helsinki:20260417T180000
DTEND;TZID=Europe/Helsinki:20260417T180000
DTSTAMP:20260425T232547
CREATED:20260402T161242Z
LAST-MODIFIED:20260408T085727Z
UID:5979-1776448800-1776448800@phka-stuve.de
SUMMARY:O-Phase
DESCRIPTION:Kneipentour und anschließend Party in der Marktlücke
URL:https://phka-stuve.de/veranstaltungen/o-phase-5
END:VEVENT
BEGIN:VEVENT
DTSTART;TZID=Europe/Helsinki:20260416T130000
DTEND;TZID=Europe/Helsinki:20260416T190000
DTSTAMP:20260425T232547
CREATED:20260402T161214Z
LAST-MODIFIED:20260408T085703Z
UID:5977-1776344400-1776366000@phka-stuve.de
SUMMARY:O-Phase
DESCRIPTION:Campusgrillen
URL:https://phka-stuve.de/veranstaltungen/o-phase-4
END:VEVENT
BEGIN:VEVENT
DTSTART;TZID=Europe/Helsinki:20260414T180000
DTEND;TZID=Europe/Helsinki:20260414T180000
DTSTAMP:20260425T232547
CREATED:20260402T161148Z
LAST-MODIFIED:20260408T085555Z
UID:5975-1776189600-1776189600@phka-stuve.de
SUMMARY:O-Phase
DESCRIPTION:Spieleabend im Z10
URL:https://phka-stuve.de/veranstaltungen/o-phase-3
END:VEVENT
BEGIN:VEVENT
DTSTART;TZID=Europe/Helsinki:20260413T170000
DTEND;TZID=Europe/Helsinki:20260413T170000
DTSTAMP:20260425T232547
CREATED:20260402T161109Z
LAST-MODIFIED:20260408T085444Z
UID:5973-1776099600-1776099600@phka-stuve.de
SUMMARY:O-Phase
DESCRIPTION:FaVe Abend
URL:https://phka-stuve.de/veranstaltungen/o-phase-2
END:VEVENT
BEGIN:VEVENT
DTSTART;TZID=Europe/Helsinki:20260411T180000
DTEND;TZID=Europe/Helsinki:20260411T180000
DTSTAMP:20260425T232547
CREATED:20260402T161042Z
LAST-MODIFIED:20260408T085354Z
UID:5971-1775930400-1775930400@phka-stuve.de
SUMMARY:O-Phase
DESCRIPTION:First Touch
URL:https://phka-stuve.de/veranstaltungen/o-phase
END:VEVENT
BEGIN:VEVENT
DTSTART;TZID=Europe/Helsinki:20250716T080000
DTEND;TZID=Europe/Helsinki:20250716T170000
DTSTAMP:20260425T232547
CREATED:20250523T103151Z
LAST-MODIFIED:20250523T103358Z
UID:5693-1752652800-1752685200@phka-stuve.de
SUMMARY:Hochschulwahlen
DESCRIPTION:
URL:https://phka-stuve.de/veranstaltungen/hochschulwahlen-2
END:VEVENT
BEGIN:VEVENT
DTSTART;TZID=Europe/Helsinki:20250702T181500
DTEND;TZID=Europe/Helsinki:20250702T200000
DTSTAMP:20260425T232547
CREATED:20250523T102721Z
LAST-MODIFIED:20250523T103006Z
UID:5691-1751480100-1751486400@phka-stuve.de
SUMMARY:StuPa-Sitzung
DESCRIPTION:
URL:https://phka-stuve.de/veranstaltungen/stupa-sitzung-20
END:VEVENT
BEGIN:VEVENT
DTSTART;TZID=Europe/Helsinki:20250617T120000
DTEND;TZID=Europe/Helsinki:20250617T230000
DTSTAMP:20260425T232547
CREATED:20250219T124227Z
LAST-MODIFIED:20250219T124227Z
UID:5505-1750161600-1750201200@phka-stuve.de
SUMMARY:StuVe-Sommerfest
DESCRIPTION:
URL:https://phka-stuve.de/veranstaltungen/stuve-sommerfest-2
END:VEVENT
BEGIN:VEVENT
DTSTART;TZID=Europe/Helsinki:20250604T181500
DTEND;TZID=Europe/Helsinki:20250604T200000
DTSTAMP:20260425T232547
CREATED:20250523T102020Z
LAST-MODIFIED:20250523T102020Z
UID:5689-1749060900-1749067200@phka-stuve.de
SUMMARY:StuPa-Sitzung
DESCRIPTION:
URL:https://phka-stuve.de/veranstaltungen/stupa-sitzung-19
END:VEVENT
BEGIN:VEVENT
DTSTART;TZID=Europe/Helsinki:20250524T080000
DTEND;TZID=Europe/Helsinki:20250524T170000
DTSTAMP:20260425T232547
CREATED:20250210T155708Z
LAST-MODIFIED:20250210T155708Z
UID:5500-1748073600-1748106000@phka-stuve.de
SUMMARY:Campustag
DESCRIPTION:
URL:https://phka-stuve.de/veranstaltungen/campustag-2
END:VEVENT
BEGIN:VEVENT
DTSTART;TZID=Europe/Helsinki:20250416T181500
DTEND;TZID=Europe/Helsinki:20250416T200000
DTSTAMP:20260425T232547
CREATED:20250401T094705Z
LAST-MODIFIED:20250401T094705Z
UID:5513-1744827300-1744833600@phka-stuve.de
SUMMARY:StuPa-Sitzung
DESCRIPTION:
URL:https://phka-stuve.de/veranstaltungen/stupa-sitzung-18
END:VEVENT
BEGIN:VEVENT
DTSTART;TZID=Europe/Helsinki:20250405T180000
DTEND;TZID=Europe/Helsinki:20250411T000000
DTSTAMP:20260425T232547
CREATED:20250401T094547Z
LAST-MODIFIED:20250402T145825Z
UID:5511-1743876000-1744329600@phka-stuve.de
SUMMARY:O-Phase SoSe 2025
DESCRIPTION:  \n  \n 
URL:https://phka-stuve.de/veranstaltungen/o-phase-sose-2025
ATTACH;FMTTYPE=image/jpeg:https://phka-stuve.de/wp-content/uploads/2025/04/Programm-Uebersicht-1.jpeg
END:VEVENT
BEGIN:VEVENT
DTSTART;TZID=Europe/Helsinki:20250319T181500
DTEND;TZID=Europe/Helsinki:20250319T200000
DTSTAMP:20260425T232547
CREATED:20250210T155621Z
LAST-MODIFIED:20250210T155621Z
UID:5498-1742408100-1742414400@phka-stuve.de
SUMMARY:StuVe-Sitzung (vorlesungsfreie Zeit)
DESCRIPTION:
URL:https://phka-stuve.de/veranstaltungen/stuve-sitzung-vorlesungsfreie-zeit
END:VEVENT
BEGIN:VEVENT
DTSTART;TZID=Europe/Helsinki:20250312T181500
DTEND;TZID=Europe/Helsinki:20250312T200000
DTSTAMP:20260425T232547
CREATED:20250210T155551Z
LAST-MODIFIED:20250210T155551Z
UID:5496-1741803300-1741809600@phka-stuve.de
SUMMARY:StuPa-Sitzung (vorlesungsfreie Zeit)
DESCRIPTION:
URL:https://phka-stuve.de/veranstaltungen/stupa-sitzung-vorlesungsfreie-zeit
END:VEVENT
BEGIN:VEVENT
DTSTART;TZID=Europe/Helsinki:20250211T180000
DTEND;TZID=Europe/Helsinki:20250211T190000
DTSTAMP:20260425T232547
CREATED:20250210T155432Z
LAST-MODIFIED:20250210T155432Z
UID:5494-1739296800-1739300400@phka-stuve.de
SUMMARY:FaVe Informatik Sitzung
DESCRIPTION:Die Sitzung findet im LLL Informatik statt
URL:https://phka-stuve.de/veranstaltungen/fave-informatik-sitzung-2
END:VEVENT
BEGIN:VEVENT
DTSTART;TZID=Europe/Helsinki:20241206T130000
DTEND;TZID=Europe/Helsinki:20241208T130000
DTSTAMP:20260425T232547
CREATED:20241015T144934Z
LAST-MODIFIED:20241015T144934Z
UID:5341-1733490000-1733662800@phka-stuve.de
SUMMARY:Ersti-Hütte
DESCRIPTION:Für Erst- und Zweitsemester Studierende.
URL:https://phka-stuve.de/veranstaltungen/ersti-huette-2
END:VEVENT
BEGIN:VEVENT
DTSTART;TZID=Europe/Helsinki:20241023T183000
DTEND;TZID=Europe/Helsinki:20241023T210000
DTSTAMP:20260425T232547
CREATED:20241015T144721Z
LAST-MODIFIED:20241015T144721Z
UID:5339-1729708200-1729717200@phka-stuve.de
SUMMARY:Konstituierende StuVe-Sitzung
DESCRIPTION:Die Sitzung findet im StuVe-Zimmer statt.
URL:https://phka-stuve.de/veranstaltungen/konstituierende-stuve-sitzung
END:VEVENT
BEGIN:VEVENT
DTSTART;TZID=Europe/Helsinki:20241016T181500
DTEND;TZID=Europe/Helsinki:20241016T200000
DTSTAMP:20260425T232547
CREATED:20241015T144625Z
LAST-MODIFIED:20241015T144625Z
UID:5337-1729102500-1729108800@phka-stuve.de
SUMMARY:Konstituierende StuPa-Sitzung
DESCRIPTION:Die Sitzung findet in Raum 1.002 statt
URL:https://phka-stuve.de/veranstaltungen/konstituierende-stupa-sitzung
END:VEVENT
BEGIN:VEVENT
DTSTART;TZID=Europe/Helsinki:20241015T163000
DTEND;TZID=Europe/Helsinki:20241015T180000
DTSTAMP:20260425T232547
CREATED:20241015T144437Z
LAST-MODIFIED:20241015T144437Z
UID:5335-1729009800-1729015200@phka-stuve.de
SUMMARY:FaVe Französisch
DESCRIPTION:Konstituierende Sitzung der FaVe Französisch.
URL:https://phka-stuve.de/veranstaltungen/fave-franzoesisch
END:VEVENT
BEGIN:VEVENT
DTSTART;TZID=Europe/Helsinki:20240911T181500
DTEND;TZID=Europe/Helsinki:20240911T200000
DTSTAMP:20260425T232547
CREATED:20240222T163018Z
LAST-MODIFIED:20240222T163018Z
UID:5033-1726078500-1726084800@phka-stuve.de
SUMMARY:StuPa-Sitzung
DESCRIPTION:Die StuPa-Sitzung findet online auf Stud.IP statt.
URL:https://phka-stuve.de/veranstaltungen/stupa-sitzung-16
END:VEVENT
BEGIN:VEVENT
DTSTART;TZID=Europe/Helsinki:20240724T183000
DTEND;TZID=Europe/Helsinki:20240724T200000
DTSTAMP:20260425T232547
CREATED:20240624T072435Z
LAST-MODIFIED:20240624T072435Z
UID:5220-1721845800-1721851200@phka-stuve.de
SUMMARY:StuVe-Sitzung
DESCRIPTION:Die Sitzung findet in Raum 2.002 A (StuVe-Zimmer) stattt.
URL:https://phka-stuve.de/veranstaltungen/stuve-sitzung-8
END:VEVENT
BEGIN:VEVENT
DTSTART;TZID=Europe/Helsinki:20240722T080000
DTEND;TZID=Europe/Helsinki:20240722T170000
DTSTAMP:20260425T232547
CREATED:20240619T143409Z
LAST-MODIFIED:20240619T144355Z
UID:5204-1721635200-1721667600@phka-stuve.de
SUMMARY:FaVe Musik Open Stage
DESCRIPTION:
URL:https://phka-stuve.de/veranstaltungen/fave-musik-open-stage
END:VEVENT
BEGIN:VEVENT
DTSTART;TZID=Europe/Helsinki:20240717T181500
DTEND;TZID=Europe/Helsinki:20240717T200000
DTSTAMP:20260425T232547
CREATED:20240624T072109Z
LAST-MODIFIED:20240624T072109Z
UID:5218-1721240100-1721246400@phka-stuve.de
SUMMARY:StuPa-Sitzung
DESCRIPTION:Sitzungsraum wird noch bekannt gegeben.
URL:https://phka-stuve.de/veranstaltungen/stupa-sitzung-17
END:VEVENT
BEGIN:VEVENT
DTSTART;TZID=Europe/Helsinki:20240717T100000
DTEND;TZID=Europe/Helsinki:20240717T170000
DTSTAMP:20260425T232547
CREATED:20240222T162904Z
LAST-MODIFIED:20240222T162904Z
UID:5031-1721210400-1721235600@phka-stuve.de
SUMMARY:Gremienwahlen
DESCRIPTION:
URL:https://phka-stuve.de/veranstaltungen/gremienwahlen
END:VEVENT
BEGIN:VEVENT
DTSTART;TZID=Europe/Helsinki:20240716T181500
DTEND;TZID=Europe/Helsinki:20240716T200000
DTSTAMP:20260425T232547
CREATED:20240222T162817Z
LAST-MODIFIED:20240624T101020Z
UID:5029-1721153700-1721160000@phka-stuve.de
SUMMARY:Vollversammlung VS PH KA
DESCRIPTION:Die Vollversammlung findet in Raum 1.002 stattt.
URL:https://phka-stuve.de/veranstaltungen/vollversammlung-vs-ph-ka
END:VEVENT
BEGIN:VEVENT
DTSTART;TZID=Europe/Helsinki:20240715T080000
DTEND;TZID=Europe/Helsinki:20240715T170000
DTSTAMP:20260425T232547
CREATED:20240619T143302Z
LAST-MODIFIED:20240619T143308Z
UID:5202-1721030400-1721062800@phka-stuve.de
SUMMARY:internes Sommerfest des Fachs Musik
DESCRIPTION:
URL:https://phka-stuve.de/veranstaltungen/internes-sommerfest-des-fachs-musik
END:VEVENT
BEGIN:VEVENT
DTSTART;TZID=Europe/Helsinki:20240710T183000
DTEND;TZID=Europe/Helsinki:20240710T200000
DTSTAMP:20260425T232547
CREATED:20240222T162724Z
LAST-MODIFIED:20240624T072550Z
UID:5027-1720636200-1720641600@phka-stuve.de
SUMMARY:StuVe-Sitzung
DESCRIPTION:Die Sitzung findet in Raum 2.002 A (StuVe-Zimmer) stattt.
URL:https://phka-stuve.de/veranstaltungen/stuve-sitzung-7
END:VEVENT
BEGIN:VEVENT
DTSTART;TZID=Europe/Helsinki:20240709T170000
DTEND;TZID=Europe/Helsinki:20240709T183000
DTSTAMP:20260425T232547
CREATED:20240517T132746Z
LAST-MODIFIED:20240517T132746Z
UID:5129-1720544400-1720549800@phka-stuve.de
SUMMARY:Sitzung FaVe KiP
DESCRIPTION:
URL:https://phka-stuve.de/veranstaltungen/sitzung-fave-kip-2
END:VEVENT
BEGIN:VEVENT
DTSTART;TZID=Europe/Helsinki:20240703T140000
DTEND;TZID=Europe/Helsinki:20240703T210000
DTSTAMP:20260425T232547
CREATED:20240222T162645Z
LAST-MODIFIED:20240222T162645Z
UID:5025-1720015200-1720040400@phka-stuve.de
SUMMARY:StuVe-Sommerfest
DESCRIPTION:
URL:https://phka-stuve.de/veranstaltungen/stuve-sommerfest
END:VEVENT
BEGIN:VEVENT
DTSTART;TZID=Europe/Helsinki:20240701T180000
DTEND;TZID=Europe/Helsinki:20240701T190000
DTSTAMP:20260425T232547
CREATED:20240411T134415Z
LAST-MODIFIED:20240411T134415Z
UID:5075-1719856800-1719860400@phka-stuve.de
SUMMARY:Sitzung FaVe Informatik
DESCRIPTION:Die Sitzung findet im LLL Raum 2B.112 statt. Online an der Sitzung teilzunehmen ist ebenfalls möglich.
URL:https://phka-stuve.de/veranstaltungen/sitzung-fave-informatik-4
END:VEVENT
END:VCALENDAR