BEGIN:VCALENDAR
VERSION:2.0
PRODID:-//Studierendenvertretung PH Karlsruhe - ECPv6.15.20//NONSGML v1.0//EN
CALSCALE:GREGORIAN
METHOD:PUBLISH
X-WR-CALNAME:Studierendenvertretung PH Karlsruhe
X-ORIGINAL-URL:https://phka-stuve.de
X-WR-CALDESC:Veranstaltungen für Studierendenvertretung PH Karlsruhe
REFRESH-INTERVAL;VALUE=DURATION:PT1H
X-Robots-Tag:noindex
X-PUBLISHED-TTL:PT1H
BEGIN:VTIMEZONE
TZID:Europe/Helsinki
BEGIN:DAYLIGHT
TZOFFSETFROM:+0200
TZOFFSETTO:+0300
TZNAME:EEST
DTSTART:20220327T010000
END:DAYLIGHT
BEGIN:STANDARD
TZOFFSETFROM:+0300
TZOFFSETTO:+0200
TZNAME:EET
DTSTART:20221030T010000
END:STANDARD
BEGIN:DAYLIGHT
TZOFFSETFROM:+0200
TZOFFSETTO:+0300
TZNAME:EEST
DTSTART:20230326T010000
END:DAYLIGHT
BEGIN:STANDARD
TZOFFSETFROM:+0300
TZOFFSETTO:+0200
TZNAME:EET
DTSTART:20231029T010000
END:STANDARD
BEGIN:DAYLIGHT
TZOFFSETFROM:+0200
TZOFFSETTO:+0300
TZNAME:EEST
DTSTART:20240331T010000
END:DAYLIGHT
BEGIN:STANDARD
TZOFFSETFROM:+0300
TZOFFSETTO:+0200
TZNAME:EET
DTSTART:20241027T010000
END:STANDARD
END:VTIMEZONE
BEGIN:VEVENT
DTSTART;TZID=Europe/Helsinki:20231007T170000
DTEND;TZID=Europe/Helsinki:20231008T003000
DTSTAMP:20260423T174020
CREATED:20230921T123924Z
LAST-MODIFIED:20230926T131842Z
UID:4657-1696698000-1696725000@phka-stuve.de
SUMMARY:O-Phase First Touch
DESCRIPTION:
URL:https://phka-stuve.de/veranstaltungen/first-touch-3
END:VEVENT
BEGIN:VEVENT
DTSTART;TZID=Europe/Helsinki:20231009T173000
DTEND;TZID=Europe/Helsinki:20231009T230000
DTSTAMP:20260423T174020
CREATED:20230921T124143Z
LAST-MODIFIED:20230926T131908Z
UID:4659-1696872600-1696892400@phka-stuve.de
SUMMARY:O-Phasen Auftakt
DESCRIPTION:Begrüßung der Erstis im Kühlen Krug.
URL:https://phka-stuve.de/veranstaltungen/o-phasenauftakt
END:VEVENT
BEGIN:VEVENT
DTSTART;TZID=Europe/Helsinki:20231010T170000
DTEND;TZID=Europe/Helsinki:20231011T010000
DTSTAMP:20260423T174020
CREATED:20230921T124321Z
LAST-MODIFIED:20230926T131935Z
UID:4661-1696957200-1696986000@phka-stuve.de
SUMMARY:O-Phase Spieleabend
DESCRIPTION:Spieleabend im Z10.
URL:https://phka-stuve.de/veranstaltungen/spieleabend-3
END:VEVENT
BEGIN:VEVENT
DTSTART;TZID=Europe/Helsinki:20231011T153000
DTEND;TZID=Europe/Helsinki:20231012T000000
DTSTAMP:20260423T174020
CREATED:20230926T123837Z
LAST-MODIFIED:20230926T133303Z
UID:4680-1697038200-1697068800@phka-stuve.de
SUMMARY:O-Phase FaVe-Abend
DESCRIPTION:
URL:https://phka-stuve.de/veranstaltungen/o-phase-fave-abend
END:VEVENT
BEGIN:VEVENT
DTSTART;TZID=Europe/Helsinki:20231012T180000
DTEND;TZID=Europe/Helsinki:20231013T033000
DTSTAMP:20260423T174020
CREATED:20230921T124533Z
LAST-MODIFIED:20230926T132034Z
UID:4663-1697133600-1697167800@phka-stuve.de
SUMMARY:O-Phase Kneipentour und Party
DESCRIPTION:Kneipentour und Party Kroko Keller.
URL:https://phka-stuve.de/veranstaltungen/kneipentour-3
END:VEVENT
BEGIN:VEVENT
DTSTART;TZID=Europe/Helsinki:20231013T143000
DTEND;TZID=Europe/Helsinki:20231013T193000
DTSTAMP:20260423T174020
CREATED:20230921T124803Z
LAST-MODIFIED:20230926T132053Z
UID:4665-1697207400-1697225400@phka-stuve.de
SUMMARY:O-Phase Stadtrallye
DESCRIPTION:
URL:https://phka-stuve.de/veranstaltungen/stadtrallye-3
END:VEVENT
BEGIN:VEVENT
DTSTART;TZID=Europe/Helsinki:20231026T100000
DTEND;TZID=Europe/Helsinki:20231026T170000
DTSTAMP:20260423T174020
CREATED:20230808T152840Z
LAST-MODIFIED:20230808T153159Z
UID:4632-1698314400-1698339600@phka-stuve.de
SUMMARY:VS Workshop für Mitarbeiter*innen
DESCRIPTION:
URL:https://phka-stuve.de/veranstaltungen/workshop-fuer-mitarbeiterinnen-der-verfassten-studierendenschaften-in-baden-wuerttemberg
END:VEVENT
END:VCALENDAR