BEGIN:VCALENDAR
VERSION:2.0
PRODID:-//Studierendenvertretung PH Karlsruhe - ECPv6.15.20//NONSGML v1.0//EN
CALSCALE:GREGORIAN
METHOD:PUBLISH
X-ORIGINAL-URL:https://phka-stuve.de
X-WR-CALDESC:Veranstaltungen für Studierendenvertretung PH Karlsruhe
REFRESH-INTERVAL;VALUE=DURATION:PT1H
X-Robots-Tag:noindex
X-PUBLISHED-TTL:PT1H
BEGIN:VTIMEZONE
TZID:Europe/Helsinki
BEGIN:DAYLIGHT
TZOFFSETFROM:+0200
TZOFFSETTO:+0300
TZNAME:EEST
DTSTART:20220327T010000
END:DAYLIGHT
BEGIN:STANDARD
TZOFFSETFROM:+0300
TZOFFSETTO:+0200
TZNAME:EET
DTSTART:20221030T010000
END:STANDARD
BEGIN:DAYLIGHT
TZOFFSETFROM:+0200
TZOFFSETTO:+0300
TZNAME:EEST
DTSTART:20230326T010000
END:DAYLIGHT
BEGIN:STANDARD
TZOFFSETFROM:+0300
TZOFFSETTO:+0200
TZNAME:EET
DTSTART:20231029T010000
END:STANDARD
BEGIN:DAYLIGHT
TZOFFSETFROM:+0200
TZOFFSETTO:+0300
TZNAME:EEST
DTSTART:20240331T010000
END:DAYLIGHT
BEGIN:STANDARD
TZOFFSETFROM:+0300
TZOFFSETTO:+0200
TZNAME:EET
DTSTART:20241027T010000
END:STANDARD
END:VTIMEZONE
BEGIN:VEVENT
DTSTART;TZID=Europe/Helsinki:20231116T100000
DTEND;TZID=Europe/Helsinki:20231117T170000
DTSTAMP:20260423T162042
CREATED:20230808T153042Z
LAST-MODIFIED:20230808T153213Z
UID:4635-1700128800-1700240400@phka-stuve.de
SUMMARY:VS Workshop für gewählte Vertreter*innen
DESCRIPTION:
URL:https://phka-stuve.de/veranstaltungen/vs-workshop-fuer-gewaehlte-vertreterinnen
END:VEVENT
BEGIN:VEVENT
DTSTART;TZID=Europe/Helsinki:20231123T100000
DTEND;TZID=Europe/Helsinki:20231124T170000
DTSTAMP:20260423T162042
CREATED:20230808T153132Z
LAST-MODIFIED:20230808T153238Z
UID:4637-1700733600-1700845200@phka-stuve.de
SUMMARY:VS Workshop für gewählte Vertreter*innen
DESCRIPTION:
URL:https://phka-stuve.de/veranstaltungen/vs-workshop-fuer-gewaehlte-vertreterinnen-2
END:VEVENT
BEGIN:VEVENT
DTSTART;TZID=Europe/Helsinki:20231129T133000
DTEND;TZID=Europe/Helsinki:20231129T153000
DTSTAMP:20260423T162042
CREATED:20231127T115509Z
LAST-MODIFIED:20231127T115509Z
UID:4835-1701264600-1701271800@phka-stuve.de
SUMMARY:Sitzung FaVe katholische Theologie
DESCRIPTION:Die Sitzung der FaVe katholische Theologie findet in Raum 2.B240 statt.
URL:https://phka-stuve.de/veranstaltungen/sitzung-fave-katholische-theologie
END:VEVENT
END:VCALENDAR