BEGIN:VCALENDAR
VERSION:2.0
PRODID:-//Studierendenvertretung PH Karlsruhe - ECPv6.15.20//NONSGML v1.0//EN
CALSCALE:GREGORIAN
METHOD:PUBLISH
X-WR-CALNAME:Studierendenvertretung PH Karlsruhe
X-ORIGINAL-URL:https://phka-stuve.de
X-WR-CALDESC:Veranstaltungen für Studierendenvertretung PH Karlsruhe
REFRESH-INTERVAL;VALUE=DURATION:PT1H
X-Robots-Tag:noindex
X-PUBLISHED-TTL:PT1H
BEGIN:VTIMEZONE
TZID:Europe/Helsinki
BEGIN:DAYLIGHT
TZOFFSETFROM:+0200
TZOFFSETTO:+0300
TZNAME:EEST
DTSTART:20220327T010000
END:DAYLIGHT
BEGIN:STANDARD
TZOFFSETFROM:+0300
TZOFFSETTO:+0200
TZNAME:EET
DTSTART:20221030T010000
END:STANDARD
BEGIN:DAYLIGHT
TZOFFSETFROM:+0200
TZOFFSETTO:+0300
TZNAME:EEST
DTSTART:20230326T010000
END:DAYLIGHT
BEGIN:STANDARD
TZOFFSETFROM:+0300
TZOFFSETTO:+0200
TZNAME:EET
DTSTART:20231029T010000
END:STANDARD
BEGIN:DAYLIGHT
TZOFFSETFROM:+0200
TZOFFSETTO:+0300
TZNAME:EEST
DTSTART:20240331T010000
END:DAYLIGHT
BEGIN:STANDARD
TZOFFSETFROM:+0300
TZOFFSETTO:+0200
TZNAME:EET
DTSTART:20241027T010000
END:STANDARD
END:VTIMEZONE
BEGIN:VEVENT
DTSTART;TZID=Europe/Helsinki:20231205T130000
DTEND;TZID=Europe/Helsinki:20231205T170000
DTSTAMP:20260423T143853
CREATED:20231127T120047Z
LAST-MODIFIED:20231127T120153Z
UID:4837-1701781200-1701795600@phka-stuve.de
SUMMARY:StuVe-Winteraktion
DESCRIPTION:Auf dem PH Campus.
URL:https://phka-stuve.de/veranstaltungen/stuve-winteraktion
END:VEVENT
BEGIN:VEVENT
DTSTART;TZID=Europe/Helsinki:20231206T123000
DTEND;TZID=Europe/Helsinki:20231206T140000
DTSTAMP:20260423T143853
CREATED:20231129T135856Z
LAST-MODIFIED:20231129T135856Z
UID:4852-1701865800-1701871200@phka-stuve.de
SUMMARY:Sitzung FaVe Musik
DESCRIPTION:
URL:https://phka-stuve.de/veranstaltungen/sitzung-fave-musik
END:VEVENT
BEGIN:VEVENT
DTSTART;TZID=Europe/Helsinki:20231206T181500
DTEND;TZID=Europe/Helsinki:20231206T200000
DTSTAMP:20260423T143853
CREATED:20231127T120245Z
LAST-MODIFIED:20231127T120355Z
UID:4839-1701886500-1701892800@phka-stuve.de
SUMMARY:StuPa-Sitzung
DESCRIPTION:
URL:https://phka-stuve.de/veranstaltungen/stupa-sitzung-10
END:VEVENT
BEGIN:VEVENT
DTSTART;TZID=Europe/Helsinki:20231207T220000
DTEND;TZID=Europe/Helsinki:20231208T020000
DTSTAMP:20260423T143853
CREATED:20231127T120721Z
LAST-MODIFIED:20231127T120721Z
UID:4841-1701986400-1702000800@phka-stuve.de
SUMMARY:PH- Winterparty
DESCRIPTION:im Krokokeller\, Einlass ab 22 Uhr.
URL:https://phka-stuve.de/veranstaltungen/ph-winterparty
END:VEVENT
BEGIN:VEVENT
DTSTART;TZID=Europe/Helsinki:20231215T090000
DTEND;TZID=Europe/Helsinki:20231217T170000
DTSTAMP:20260423T143853
CREATED:20231127T121103Z
LAST-MODIFIED:20231127T121103Z
UID:4843-1702630800-1702832400@phka-stuve.de
SUMMARY:Ersti-Hütte
DESCRIPTION:Haus Sonneck\, 77815 Bühl
URL:https://phka-stuve.de/veranstaltungen/ersti-huette
END:VEVENT
END:VCALENDAR